BEGIN:VCALENDAR
VERSION:2.0
PRODID:-//Sempre Formazione - ECPv5.14.0.4//NONSGML v1.0//EN
CALSCALE:GREGORIAN
METHOD:PUBLISH
X-WR-CALNAME:Sempre Formazione
X-ORIGINAL-URL:https://www.sempreformazione.it
X-WR-CALDESC:Eventi per Sempre Formazione
BEGIN:VTIMEZONE
TZID:Europe/Rome
BEGIN:DAYLIGHT
TZOFFSETFROM:+0100
TZOFFSETTO:+0200
TZNAME:CEST
DTSTART:20220327T010000
END:DAYLIGHT
BEGIN:STANDARD
TZOFFSETFROM:+0200
TZOFFSETTO:+0100
TZNAME:CET
DTSTART:20221030T010000
END:STANDARD
END:VTIMEZONE
BEGIN:VEVENT
DTSTART;TZID=Europe/Rome:20220511T090000
DTEND;TZID=Europe/Rome:20220511T130000
DTSTAMP:20260424T061607
CREATED:20220301T085942Z
LAST-MODIFIED:20220502T122237Z
UID:4317-1652259600-1652274000@www.sempreformazione.it
SUMMARY:Armonizzazione contabile: regole per programmare\, gestire e rendicontare negli enti territoriali
DESCRIPTION:Modalità di fruizione\n\n\n\nWebinar \n\n\n\n\n\n\n\nMaggiori informazioni\n\n\n\nPer leggere il programma completo del corso\, avere maggiori informazioni sul docente e i costi\, vai alla Scheda del corso \n\n\n\n\n\n\n\n\nVai alla Scheda del corso
URL:https://www.sempreformazione.it/calendario/armonizzazione-contabile-regole-per-programmare-gestire-e-rendicontare-negli-enti-territoriali/
END:VEVENT
END:VCALENDAR