BEGIN:VCALENDAR
VERSION:2.0
PRODID:-//Sempre Formazione - ECPv5.14.0.4//NONSGML v1.0//EN
CALSCALE:GREGORIAN
METHOD:PUBLISH
X-WR-CALNAME:Sempre Formazione
X-ORIGINAL-URL:https://www.sempreformazione.it
X-WR-CALDESC:Eventi per Sempre Formazione
BEGIN:VTIMEZONE
TZID:Europe/Rome
BEGIN:DAYLIGHT
TZOFFSETFROM:+0100
TZOFFSETTO:+0200
TZNAME:CEST
DTSTART:20220327T010000
END:DAYLIGHT
BEGIN:STANDARD
TZOFFSETFROM:+0200
TZOFFSETTO:+0100
TZNAME:CET
DTSTART:20221030T010000
END:STANDARD
END:VTIMEZONE
BEGIN:VEVENT
DTSTART;TZID=Europe/Rome:20220519T090000
DTEND;TZID=Europe/Rome:20220519T130000
DTSTAMP:20260424T030932
CREATED:20220228T144255Z
LAST-MODIFIED:20220228T144257Z
UID:4297-1652950800-1652965200@www.sempreformazione.it
SUMMARY:Contrattazione Nazionale e Aziendale per la Dirigenza del S.S.N. Ruoli Sanitario\, Professionale\, Tecnico e Amministrativo
DESCRIPTION:Modalità di fruizione\n\n\n\nWebinar \n\n\n\n\n\n\n\nMaggiori informazioni\n\n\n\nPer leggere il programma completo del corso\, avere maggiori informazioni sul docente e i costi\, vai alla Scheda del corso \n\n\n\n\n\n\n\n\nVai alla Scheda del corso
URL:https://www.sempreformazione.it/calendario/contrattazione-nazionale-e-aziendale-per-la-dirigenza-del-s-s-n-ruoli-sanitario-professionale-tecnico-e-amministrativo/
END:VEVENT
END:VCALENDAR