BEGIN:VCALENDAR
VERSION:2.0
PRODID:-//Sempre Formazione - ECPv5.14.0.4//NONSGML v1.0//EN
CALSCALE:GREGORIAN
METHOD:PUBLISH
X-WR-CALNAME:Sempre Formazione
X-ORIGINAL-URL:https://www.sempreformazione.it
X-WR-CALDESC:Eventi per Sempre Formazione
BEGIN:VTIMEZONE
TZID:Europe/Rome
BEGIN:DAYLIGHT
TZOFFSETFROM:+0100
TZOFFSETTO:+0200
TZNAME:CEST
DTSTART:20220327T010000
END:DAYLIGHT
BEGIN:STANDARD
TZOFFSETFROM:+0200
TZOFFSETTO:+0100
TZNAME:CET
DTSTART:20221030T010000
END:STANDARD
END:VTIMEZONE
BEGIN:VEVENT
DTSTART;TZID=Europe/Rome:20221212T090000
DTEND;TZID=Europe/Rome:20221212T163000
DTSTAMP:20260423T193020
CREATED:20221118T103314Z
LAST-MODIFIED:20221118T103316Z
UID:5039-1670835600-1670862600@www.sempreformazione.it
SUMMARY:Il Contratto Collettivo Nazionale di Lavoro 2019 – 2021 Personale dei Livelli (Comparto) Sanità
DESCRIPTION:Modalità di fruizione\n\n\n\nWebinar \n\n\n\n\n\n\n\nMaggiori informazioni\n\n\n\nPer leggere il programma completo del corso\, avere maggiori informazioni sul docente e i costi\, vai alla Scheda del corso \n\n\n\n\n\n\n\n\nVai alla Scheda del corso
URL:https://www.sempreformazione.it/calendario/il-contratto-collettivo-nazionale-di-lavoro-2019-2021-personale-dei-livelli-comparto-sanita-2/
END:VEVENT
END:VCALENDAR