BEGIN:VCALENDAR
VERSION:2.0
PRODID:-//Sempre Formazione - ECPv5.14.0.4//NONSGML v1.0//EN
CALSCALE:GREGORIAN
METHOD:PUBLISH
X-WR-CALNAME:Sempre Formazione
X-ORIGINAL-URL:https://www.sempreformazione.it
X-WR-CALDESC:Eventi per Sempre Formazione
BEGIN:VTIMEZONE
TZID:Europe/Rome
BEGIN:DAYLIGHT
TZOFFSETFROM:+0100
TZOFFSETTO:+0200
TZNAME:CEST
DTSTART:20230326T010000
END:DAYLIGHT
BEGIN:STANDARD
TZOFFSETFROM:+0200
TZOFFSETTO:+0100
TZNAME:CET
DTSTART:20231029T010000
END:STANDARD
END:VTIMEZONE
BEGIN:VEVENT
DTSTART;TZID=Europe/Rome:20230503T090000
DTEND;TZID=Europe/Rome:20230503T130000
DTSTAMP:20260421T032435
CREATED:20230103T110309Z
LAST-MODIFIED:20230103T110311Z
UID:5523-1683104400-1683118800@www.sempreformazione.it
SUMMARY:IL NUOVO CODICE DEI CONTRATTI PUBBLICI
DESCRIPTION:Modalità di fruizione\n\n\n\nWebinar \n\n\n\n\n\n\n\nMaggiori informazioni\n\n\n\nPer leggere il programma completo del corso\, avere maggiori informazioni sul docente e i costi\, vai alla Scheda del corso \n\n\n\n\n\n\n\n\nVai alla Scheda del corso
URL:https://www.sempreformazione.it/calendario/il-nuovo-codice-dei-contratti-pubblici-6/
END:VEVENT
END:VCALENDAR