BEGIN:VCALENDAR
VERSION:2.0
PRODID:-//Sempre Formazione - ECPv5.14.0.4//NONSGML v1.0//EN
CALSCALE:GREGORIAN
METHOD:PUBLISH
X-WR-CALNAME:Sempre Formazione
X-ORIGINAL-URL:https://www.sempreformazione.it
X-WR-CALDESC:Eventi per Sempre Formazione
BEGIN:VTIMEZONE
TZID:Europe/Rome
BEGIN:DAYLIGHT
TZOFFSETFROM:+0100
TZOFFSETTO:+0200
TZNAME:CEST
DTSTART:20220327T010000
END:DAYLIGHT
BEGIN:STANDARD
TZOFFSETFROM:+0200
TZOFFSETTO:+0100
TZNAME:CET
DTSTART:20221030T010000
END:STANDARD
END:VTIMEZONE
BEGIN:VEVENT
DTSTART;TZID=Europe/Rome:20220523T090000
DTEND;TZID=Europe/Rome:20220523T130000
DTSTAMP:20260423T222406
CREATED:20220302T091137Z
LAST-MODIFIED:20220502T121454Z
UID:4590-1653296400-1653310800@www.sempreformazione.it
SUMMARY:Legge n.113 “Reclutamento” 2021 per il PNRR: le nuove modalità speciali per il reclutamento e il conferimento di incarichi professionali”
DESCRIPTION:Modalità di fruizione\n\n\n\nWebinar \n\n\n\n\n\n\n\nMaggiori informazioni\n\n\n\nPer leggere il programma completo del corso\, avere maggiori informazioni sul docente e i costi\, vai alla Scheda del corso \n\n\n\n\n\n\n\n\nVai alla Scheda del corso
URL:https://www.sempreformazione.it/calendario/legge-n-113-reclutamento-2021-per-il-pnrr-le-nuove-modalita-speciali-per-il-reclutamento-e-il-conferimento-di-incarichi-professionali/
END:VEVENT
END:VCALENDAR